BEGIN:VCALENDAR
VERSION:2.0
PRODID:spatie/icalendar-generator
DESCRIPTION:Events from Community Driving School
X-WR-CALDESC:Events from Community Driving School
REFRESH-INTERVAL;VALUE=DURATION:PT1440M
X-PUBLISHED-TTL:PT1440M
BEGIN:VTIMEZONE
TZID:Etc/GMT+0
BEGIN:STANDARD
DTSTART:20230331T000000Z
TZOFFSETFROM:+0000
TZOFFSETTO:+0000
END:STANDARD
END:VTIMEZONE
BEGIN:VTIMEZONE
TZID:UTC
BEGIN:STANDARD
DTSTART:20250727T112411Z
TZOFFSETFROM:+0000
TZOFFSETTO:+0000
END:STANDARD
END:VTIMEZONE
BEGIN:VEVENT
UID:258-245
DTSTAMP:20260423T112411Z
SUMMARY:**SEE THE WESTMINSTER\, LITTLETON or LAKEWOOD SCHEDULE FOR 12/26 - 
 12/29 CLASSES
LOCATION:
ORGANIZER;CN=Steve Rohman:MAILTO:4talliance@gmail.com
DTSTART;TZID=Etc/GMT+0;VALUE=DATE:20231226
DTEND;TZID=Etc/GMT+0;VALUE=DATE:20231230
X-ALT-DESC;FMTTYPE=TEXT/HTML:
CATEGORIES:Golden
URL;VALUE=URI:https://learntodrivecolorado.com/mc-events/see-the-westminste
 r-littleton-or-lakewood-schedule-for-12-26-12-29-classes/?mc_id=258
METHOD:PUBLISH
END:VEVENT
END:VCALENDAR