BEGIN:VCALENDAR
VERSION:2.0
PRODID:spatie/icalendar-generator
DESCRIPTION:Events from Community Driving School
X-WR-CALDESC:Events from Community Driving School
REFRESH-INTERVAL;VALUE=DURATION:PT1440M
X-PUBLISHED-TTL:PT1440M
BEGIN:VTIMEZONE
TZID:Etc/GMT+0
BEGIN:STANDARD
DTSTART:20240227T000000Z
TZOFFSETFROM:+0000
TZOFFSETTO:+0000
END:STANDARD
END:VTIMEZONE
BEGIN:VTIMEZONE
TZID:UTC
BEGIN:STANDARD
DTSTART:20250725T083915Z
TZOFFSETFROM:+0000
TZOFFSETTO:+0000
END:STANDARD
END:VTIMEZONE
BEGIN:VEVENT
UID:483-463
DTSTAMP:20260421T083915Z
SUMMARY:**SEE THE LITTLETON OR WESTMINSTER SCHEDULE FOR 11/23 - 11/24 CLASS
 ES
LOCATION:
ORGANIZER;CN=Steve Rohman:MAILTO:4talliance@gmail.com
DTSTART;TZID=Etc/GMT+0;VALUE=DATE:20241123
DTEND;TZID=Etc/GMT+0;VALUE=DATE:20241125
X-ALT-DESC;FMTTYPE=TEXT/HTML:
CATEGORIES:Golden,  Lakewood
URL;VALUE=URI:https://learntodrivecolorado.com/mc-events/see-the-littleton-
 or-westminster-schedule-for-11-23-11-24-classes/?mc_id=483
METHOD:PUBLISH
END:VEVENT
END:VCALENDAR