BEGIN:VCALENDAR
VERSION:2.0
PRODID:spatie/icalendar-generator
DESCRIPTION:Events from Community Driving School
X-WR-CALDESC:Events from Community Driving School
REFRESH-INTERVAL;VALUE=DURATION:PT1440M
X-PUBLISHED-TTL:PT1440M
BEGIN:VTIMEZONE
TZID:Etc/GMT+0
BEGIN:STANDARD
DTSTART:20241210T000000Z
TZOFFSETFROM:+0000
TZOFFSETTO:+0000
END:STANDARD
END:VTIMEZONE
BEGIN:VTIMEZONE
TZID:UTC
BEGIN:STANDARD
DTSTART:20250724T103426Z
TZOFFSETFROM:+0000
TZOFFSETTO:+0000
END:STANDARD
END:VTIMEZONE
BEGIN:VEVENT
UID:686-640
DTSTAMP:20260420T103426Z
SUMMARY:**SEE THE GOLDEN OR LITTLETON SCHEDULE FOR 09/06 - 09/14 CLASSES
LOCATION:
ORGANIZER;CN=Steve Rohman:MAILTO:4talliance@gmail.com
RRULE:FREQ=WEEKLY;UNTIL=20250914T000000Z
DTSTART;TZID=Etc/GMT+0;VALUE=DATE:20250906
DTEND;TZID=Etc/GMT+0;VALUE=DATE:20250908
X-ALT-DESC;FMTTYPE=TEXT/HTML:
CATEGORIES:Lakewood,  Westminster
URL;VALUE=URI:https://learntodrivecolorado.com/mc-events/see-the-golden-or-
 littleton-schedule-for-09-06-09-14-classes/?mc_id=686
METHOD:PUBLISH
END:VEVENT
END:VCALENDAR