BEGIN:VCALENDAR
VERSION:2.0
PRODID:spatie/icalendar-generator
DESCRIPTION:Events from Community Driving School
X-WR-CALDESC:Events from Community Driving School
REFRESH-INTERVAL;VALUE=DURATION:PT1440M
X-PUBLISHED-TTL:PT1440M
BEGIN:VTIMEZONE
TZID:Etc/GMT+0
BEGIN:STANDARD
DTSTART:20250527T000000Z
TZOFFSETFROM:+0000
TZOFFSETTO:+0000
END:STANDARD
END:VTIMEZONE
BEGIN:VTIMEZONE
TZID:UTC
BEGIN:STANDARD
DTSTART:20250725T101918Z
TZOFFSETFROM:+0000
TZOFFSETTO:+0000
END:STANDARD
END:VTIMEZONE
BEGIN:VEVENT
UID:756-678
DTSTAMP:20260421T101918Z
SUMMARY:Session #4
LOCATION:
ORGANIZER;CN=Steve Rohman:MAILTO:4talliance@gmail.com
DTSTART;TZID=Etc/GMT+0;VALUE=DATE:20260221
DTEND;TZID=Etc/GMT+0;VALUE=DATE:20260222
X-ALT-DESC;FMTTYPE=TEXT/HTML:
CATEGORIES:Littleton,  Westminster
URL;VALUE=URI:https://learntodrivecolorado.com/mc-events/session-4-99/?mc_i
 d=756
METHOD:PUBLISH
END:VEVENT
END:VCALENDAR