BEGIN:VCALENDAR
VERSION:2.0
PRODID:spatie/icalendar-generator
DESCRIPTION:Events from Community Driving School
X-WR-CALDESC:Events from Community Driving School
REFRESH-INTERVAL;VALUE=DURATION:PT1440M
X-PUBLISHED-TTL:PT1440M
BEGIN:VTIMEZONE
TZID:Etc/GMT+0
BEGIN:STANDARD
DTSTART:20250813T000000Z
TZOFFSETFROM:+0000
TZOFFSETTO:+0000
END:STANDARD
END:VTIMEZONE
BEGIN:VTIMEZONE
TZID:UTC
BEGIN:STANDARD
DTSTART:20250727T093407Z
TZOFFSETFROM:+0000
TZOFFSETTO:+0000
END:STANDARD
END:VTIMEZONE
BEGIN:VEVENT
UID:781-703
DTSTAMP:20260423T093407Z
SUMMARY:Session #2
LOCATION:
ORGANIZER;CN=Steve Rohman:MAILTO:4talliance@gmail.com
DTSTART;TZID=Etc/GMT+0;VALUE=DATE:20260510
DTEND;TZID=Etc/GMT+0;VALUE=DATE:20260511
X-ALT-DESC;FMTTYPE=TEXT/HTML:
CATEGORIES:Golden,  Littleton
URL;VALUE=URI:https://learntodrivecolorado.com/mc-events/session-2-109/?mc_
 id=781
METHOD:PUBLISH
END:VEVENT
END:VCALENDAR