BEGIN:VCALENDAR
VERSION:2.0
PRODID:spatie/icalendar-generator
DESCRIPTION:Events from Community Driving School
X-WR-CALDESC:Events from Community Driving School
REFRESH-INTERVAL;VALUE=DURATION:PT1440M
X-PUBLISHED-TTL:PT1440M
BEGIN:VTIMEZONE
TZID:Etc/GMT+0
BEGIN:STANDARD
DTSTART:20250617T000000Z
TZOFFSETFROM:+0000
TZOFFSETTO:+0000
END:STANDARD
END:VTIMEZONE
BEGIN:VTIMEZONE
TZID:UTC
BEGIN:STANDARD
DTSTART:20250727T132324Z
TZOFFSETFROM:+0000
TZOFFSETTO:+0000
END:STANDARD
END:VTIMEZONE
BEGIN:VEVENT
UID:841-752
DTSTAMP:20260423T132324Z
SUMMARY:**SEE THE WESTMINSTER or GOLDEN SCHEDULE FOR 03/14 - 03/22 CLASSES
LOCATION:
ORGANIZER;CN=Steve Rohman:MAILTO:4talliance@gmail.com
RRULE:FREQ=WEEKLY;UNTIL=20260322T000000Z
DTSTART;TZID=Etc/GMT+0;VALUE=DATE:20260314
DTEND;TZID=Etc/GMT+0;VALUE=DATE:20260316
X-ALT-DESC;FMTTYPE=TEXT/HTML:
CATEGORIES:Lakewood,  Littleton
URL;VALUE=URI:https://learntodrivecolorado.com/mc-events/see-the-westminste
 r-or-golden-schedule-for-03-14-03-22-classes/?mc_id=841
METHOD:PUBLISH
END:VEVENT
END:VCALENDAR