BEGIN:VCALENDAR
VERSION:2.0
PRODID:spatie/icalendar-generator
DESCRIPTION:Events from Community Driving School
X-WR-CALDESC:Events from Community Driving School
REFRESH-INTERVAL;VALUE=DURATION:PT1440M
X-PUBLISHED-TTL:PT1440M
BEGIN:VTIMEZONE
TZID:Etc/GMT+0
BEGIN:STANDARD
DTSTART:20250925T000000Z
TZOFFSETFROM:+0000
TZOFFSETTO:+0000
END:STANDARD
END:VTIMEZONE
BEGIN:VTIMEZONE
TZID:UTC
BEGIN:STANDARD
DTSTART:20250727T111716Z
TZOFFSETFROM:+0000
TZOFFSETTO:+0000
END:STANDARD
END:VTIMEZONE
BEGIN:VEVENT
UID:864-764
DTSTAMP:20260423T111716Z
SUMMARY:**SEE THE LAKEWOOD OR LITTLETON SCHEDULE FOR 06/22 - 06/26 CLASSES
LOCATION:
ORGANIZER;CN=Steve Rohman:MAILTO:4talliance@gmail.com
DTSTART;TZID=Etc/GMT+0;VALUE=DATE:20260622
DTEND;TZID=Etc/GMT+0;VALUE=DATE:20260626
X-ALT-DESC;FMTTYPE=TEXT/HTML:
CATEGORIES:Golden,  Westminster
URL;VALUE=URI:https://learntodrivecolorado.com/mc-events/see-the-lakewood-o
 r-littleton-schedule-for-06-22-06-26-classes/?mc_id=864
METHOD:PUBLISH
END:VEVENT
END:VCALENDAR