BEGIN:VCALENDAR
VERSION:2.0
PRODID:spatie/icalendar-generator
DESCRIPTION:Events from Community Driving School
X-WR-CALDESC:Events from Community Driving School
REFRESH-INTERVAL;VALUE=DURATION:PT1440M
X-PUBLISHED-TTL:PT1440M
BEGIN:VTIMEZONE
TZID:Etc/GMT+0
BEGIN:STANDARD
DTSTART:20250614T000000Z
TZOFFSETFROM:+0000
TZOFFSETTO:+0000
END:STANDARD
END:VTIMEZONE
BEGIN:VTIMEZONE
TZID:UTC
BEGIN:STANDARD
DTSTART:20250727T130417Z
TZOFFSETFROM:+0000
TZOFFSETTO:+0000
END:STANDARD
END:VTIMEZONE
BEGIN:VEVENT
UID:890-785
DTSTAMP:20260423T130417Z
SUMMARY:Expanded Drivers Awareness (4 hour class (4:30pm - 8:30pm) for 15.5
  or older) via Zoom
LOCATION:
ORGANIZER;CN=Steve Rohman:MAILTO:4talliance@gmail.com
DTSTART;TZID=Etc/GMT+0;VALUE=DATE:20260311
DTEND;TZID=Etc/GMT+0;VALUE=DATE:20260312
X-ALT-DESC;FMTTYPE=TEXT/HTML:
CATEGORIES:General,  Golden,  Lakewood,  Littleton,  Westminster
URL;VALUE=URI:https://learntodrivecolorado.com/mc-events/expanded-drivers-a
 wareness-4-hour-class-430pm-830pm-for-15-5-or-older-via-zoom-7/?mc_id=890
METHOD:PUBLISH
END:VEVENT
END:VCALENDAR