BEGIN:VCALENDAR
VERSION:2.0
PRODID:spatie/icalendar-generator
DESCRIPTION:Events from Community Driving School
X-WR-CALDESC:Events from Community Driving School
REFRESH-INTERVAL;VALUE=DURATION:PT1440M
X-PUBLISHED-TTL:PT1440M
BEGIN:VTIMEZONE
TZID:Etc/GMT+0
BEGIN:STANDARD
DTSTART:20241101T000000Z
TZOFFSETFROM:+0000
TZOFFSETTO:+0000
END:STANDARD
END:VTIMEZONE
BEGIN:VTIMEZONE
TZID:UTC
BEGIN:STANDARD
DTSTART:20250723T133808Z
TZOFFSETFROM:+0000
TZOFFSETTO:+0000
END:STANDARD
END:VTIMEZONE
BEGIN:VEVENT
UID:637-594
DTSTAMP:20260419T133808Z
SUMMARY:Session #2
LOCATION:
ORGANIZER;CN=Steve Rohman:MAILTO:4talliance@gmail.com
DTSTART;TZID=Etc/GMT+0;VALUE=DATE:20250729
DTEND;TZID=Etc/GMT+0;VALUE=DATE:20250730
X-ALT-DESC;FMTTYPE=TEXT/HTML:
CATEGORIES:Lakewood,  Littleton
URL;VALUE=URI:https://learntodrivecolorado.com/mc-events/session-2-88/?mc_i
 d=637
METHOD:PUBLISH
END:VEVENT
END:VCALENDAR