BEGIN:VCALENDAR
VERSION:2.0
PRODID:spatie/icalendar-generator
DESCRIPTION:Events from Community Driving School
X-WR-CALDESC:Events from Community Driving School
REFRESH-INTERVAL;VALUE=DURATION:PT1440M
X-PUBLISHED-TTL:PT1440M
BEGIN:VTIMEZONE
TZID:Etc/GMT+0
BEGIN:STANDARD
DTSTART:20250722T000000Z
TZOFFSETFROM:+0000
TZOFFSETTO:+0000
END:STANDARD
END:VTIMEZONE
BEGIN:VTIMEZONE
TZID:UTC
BEGIN:STANDARD
DTSTART:20250724T092759Z
TZOFFSETFROM:+0000
TZOFFSETTO:+0000
END:STANDARD
END:VTIMEZONE
BEGIN:VEVENT
UID:846-755
DTSTAMP:20260420T092759Z
SUMMARY:**SEE THE LITTLETON or WESTMINSTER SCHEDULE FOR 04/11 - 04/19 CLASS
 ES
LOCATION:
ORGANIZER;CN=Steve Rohman:MAILTO:4talliance@gmail.com
RRULE:FREQ=WEEKLY;UNTIL=20260419T000000Z
DTSTART;TZID=Etc/GMT+0;VALUE=DATE:20260418
DTEND;TZID=Etc/GMT+0;VALUE=DATE:20260420
X-ALT-DESC;FMTTYPE=TEXT/HTML:
CATEGORIES:Golden,  Lakewood
URL;VALUE=URI:https://learntodrivecolorado.com/mc-events/see-the-littleton-
 or-westminster-schedule-for-04-11-04-19-classes/?mc_id=846
METHOD:PUBLISH
END:VEVENT
END:VCALENDAR