BEGIN:VCALENDAR
VERSION:2.0
PRODID:spatie/icalendar-generator
DESCRIPTION:Events from Community Driving School
X-WR-CALDESC:Events from Community Driving School
REFRESH-INTERVAL;VALUE=DURATION:PT1440M
X-PUBLISHED-TTL:PT1440M
BEGIN:VTIMEZONE
TZID:Etc/GMT+0
BEGIN:STANDARD
DTSTART:20250918T000000Z
TZOFFSETFROM:+0000
TZOFFSETTO:+0000
END:STANDARD
END:VTIMEZONE
BEGIN:VTIMEZONE
TZID:UTC
BEGIN:STANDARD
DTSTART:20250724T092605Z
TZOFFSETFROM:+0000
TZOFFSETTO:+0000
END:STANDARD
END:VTIMEZONE
BEGIN:VEVENT
UID:866-759
DTSTAMP:20260420T092605Z
SUMMARY:**SEE THE GOLDEN or WESTMINSTER SCHEDULE FOR 06/15 - 06/19 CLASSES
LOCATION:
ORGANIZER;CN=Steve Rohman:MAILTO:4talliance@gmail.com
DTSTART;TZID=Etc/GMT+0;VALUE=DATE:20260615
DTEND;TZID=Etc/GMT+0;VALUE=DATE:20260619
X-ALT-DESC;FMTTYPE=TEXT/HTML:
CATEGORIES:Lakewood,  Littleton
URL;VALUE=URI:https://learntodrivecolorado.com/mc-events/see-the-golden-or-
 westminster-schedule-for-06-15-06-19-classes/?mc_id=866
METHOD:PUBLISH
END:VEVENT
END:VCALENDAR